BEGIN:VCALENDAR
VERSION:2.0
PRODID:-//eventon.com NONSGML v1.0//EN
CALSCALE:GREGORIAN
METHOD:PUBLISH
BEGIN:VEVENT
UID:69e49a54a0ad9
DTSTAMP:20260419T090316Z
DTSTART:20260114
DTEND:20260115
LOCATION:
SUMMARY:Produktionsförderung (Spielfilm) - High End
DESCRIPTION:&#x1f4b0; Fördersumme: individuell\,  als erfolgsbedingt rück
 zahlbares Darlehen &#x1f5d3;&#xfe0f; Antragsfrist: 14.01.26 &#x1f465; Antra
 gsberechtigt: Produzent*innen INFORMATIONEN ZUR FÖRDERUNG Die Produktionsf
 örderung Spielfilm (High End) der MOIN Filmförderung Hamburg Schleswig-Ho
 lstein unterstützt die Herstellung von hochwertigen\,  programmfüllenden 
 Kino-Spielfilmen. Gefördert werden Produktionen\,  die sowohl künstlerisc
 h als auch wirtschaftlich erfolgversprechend sind und zur Stärkung des Fil
 mstandorts Hamburg/Schleswig-Holstein[..]\nhttps://indiefilmtalk.de/episode
 s/events/produktionsfoerderung-spielfilm-high-end/
URL:https://indiefilmtalk.de/episodes/events/produktionsfoerderung-spielfilm-high-end/
END:VEVENT
END:VCALENDAR