BEGIN:VCALENDAR
VERSION:2.0
PRODID:-//eventon.com NONSGML v1.0//EN
CALSCALE:GREGORIAN
METHOD:PUBLISH
BEGIN:VEVENT
UID:69e49a54a133a
DTSTAMP:20260419T090316Z
DTSTART:20260203
DTEND:20260204
LOCATION:
SUMMARY:Projektentwicklung Director's Cut
DESCRIPTION:&#x1f5d3;&#xfe0f; Entscheidungssitzung: 03.02.26 &#x1f465; Antr
 agsberechtigt: Produzent*innen mit Sitz in Deutschland\,  bevorzugt Hamburg
  oder Schleswig-Holstein INFORMATIONEN ZUR FÖRDERUNG Die Projektentwicklun
 gsförderung der MOIN Filmförderung unterstützt die Entwicklung von Kinof
 ilmen (Spiel- und Dokumentarfilm) sowie seriellen Formaten. Ziel ist es\,  
 Film- und Serienprojekte bis zur Produktionsreife zu bringen – von der er
 sten Idee über[..]\nhttps://indiefilmtalk.de/episodes/events/projektentwic
 klung-directors-cut/
URL:https://indiefilmtalk.de/episodes/events/projektentwicklung-directors-cut/
END:VEVENT
END:VCALENDAR