BEGIN:VCALENDAR
VERSION:2.0
PRODID:-//eventon.com NONSGML v1.0//EN
CALSCALE:GREGORIAN
METHOD:PUBLISH
BEGIN:VEVENT
UID:69e8a2a6ae070
DTSTAMP:20260422T102750Z
DTSTART:20260507T210000Z
DTEND:20260507T210000Z
LOCATION:
SUMMARY:Projektentwicklung
DESCRIPTION:&#x1f4b0; Fördersumme: 20.000 € &#x1f5d3;&#xfe0f; Antragsfri
 sten: 07.05.2026 (Beratungsgespräch notwendig) &#x1f465; Antragsberechtigt
 : Produzent*innen\,  die über mindestens 51 Prozent der Rechte verfügen I
 NFORMATIONEN ZUR FÖRDERUNG Die Projektentwicklungsförderung deckt alle Ak
 tivitäten ab\,  die erforderlich sind\,  um ein Drehbuch oder ein vergleic
 hbares\,  umsetzbares Konzept bis zum ersten Drehtag oder Realisierungstag 
 (Produktionsreife) zu entwickeln. FÖRDERBEDINGUNGEN[..]\nhttps://indiefilm
 talk.de/episodes/events/projektentwicklung-19/
URL:https://indiefilmtalk.de/episodes/events/projektentwicklung-19/
END:VEVENT
END:VCALENDAR